BEGIN:VCALENDAR
VERSION:2.0
PRODID:-//Plone.org//NONSGML plone.app.event//EN
X-WR-TIMEZONE:America/Chicago
BEGIN:VEVENT
SUMMARY:Commissioners' Agenda Meeting
DTSTART;TZID=America/Chicago;VALUE=DATE-TIME:20211020T093000
DTSTAMP;VALUE=DATE-TIME:20210724T180308Z
UID:5c8897d9ea7d480ebca230e809552ddd@tceq4avrplonep1.tceq.texas.gov:6081
CONTACT:Mehgan Taack\, 512-239-3300\, chiefclk@tceq.texas.gov\, https://ww
 w.tceq.texas.gov/agency/decisions/agendas/comm/comm_agendas.html
CREATED;VALUE=DATE-TIME:20201006T231510Z
DESCRIPTION:These meetings are formal\, legal proceedings in which commiss
 ioners meet openly to consider permit applications\, \nenforcement actions
 \, and other agency business\, as well as to discuss TCEQ programs and pol
 icies with staff.
LAST-MODIFIED;VALUE=DATE-TIME:20210412T190142Z
LOCATION:12100 Park 35 Circle\, Bldg. E\, Room 201S\, Austin\, Texas 78753
URL:https://www.tceq.texas.gov/agency/decisions/agendas/comm/events-cal/co
 mmissioners-agenda-meeting-51
END:VEVENT
BEGIN:VTIMEZONE
TZID:America/Chicago
X-LIC-LOCATION:America/Chicago
BEGIN:DAYLIGHT
DTSTART;VALUE=DATE-TIME:20210314T030000
TZNAME:CDT
TZOFFSETFROM:-0600
TZOFFSETTO:-0500
END:DAYLIGHT
END:VTIMEZONE
END:VCALENDAR
