BEGIN:VCALENDAR
VERSION:2.0
PRODID:-//Plone.org//NONSGML plone.app.event//EN
X-WR-TIMEZONE:America/Chicago
BEGIN:VEVENT
SUMMARY:Commission Work Session
DTSTART;TZID=America/Chicago;VALUE=DATE-TIME:20210923T093000
DTEND;TZID=America/Chicago;VALUE=DATE-TIME:20210923T120000
DTSTAMP;VALUE=DATE-TIME:20210724T180252Z
UID:4fc8f6088c0b4ac38c10f3245bbf9c88@tceq4avrplonep1.tceq.texas.gov:6081
CONTACT:Mehgan Taack\, 512-239-3300\, chiefclk@tceq.texas.gov\, https://ww
 w.tceq.texas.gov/agency/decisions/agendas/wk_sess/upcoming-cws-schedule.ht
 ml
CREATED;VALUE=DATE-TIME:20201006T180552Z
DESCRIPTION:Commission work sessions are informal meetings of the TCEQ lea
 dership where specific policy issues\, potential rules\, national issues\,
  and other issues of interest to the agency are discussed.
LAST-MODIFIED;VALUE=DATE-TIME:20210412T190302Z
LOCATION:12100 Park 35 Circle\, Bldg. E\, Room 201S\, Austin\, Texas 78753
URL:https://www.tceq.texas.gov/agency/decisions/agendas/wk_sess/events-cal
 /commission-work-session-27
END:VEVENT
BEGIN:VTIMEZONE
TZID:America/Chicago
X-LIC-LOCATION:America/Chicago
BEGIN:DAYLIGHT
DTSTART;VALUE=DATE-TIME:20210314T030000
TZNAME:CDT
TZOFFSETFROM:-0600
TZOFFSETTO:-0500
END:DAYLIGHT
END:VTIMEZONE
END:VCALENDAR
