BEGIN:VCALENDAR
VERSION:2.0
PRODID:-//Plone.org//NONSGML plone.app.event//EN
X-WR-TIMEZONE:America/Chicago
BEGIN:VEVENT
SUMMARY:Commission Work Session
DTSTART;TZID=America/Chicago:20260730T130000
DTEND;TZID=America/Chicago:20260730T170000
DTSTAMP:20260420T231912Z
UID:adf2eee7fd0642a9855f628cc0c4cf2b@204.67.85.15:6081
CONTACT:OCC Final Documents and Agenda Section Manager\, 512-239-3300
CREATED:20260309T231242Z
DESCRIPTION:Commission work sessions are informal meetings of the TCEQ lea
 dership where specific policy issues\, potential rules\, national issues\,
  and other issues of interest to the agency are discussed.
LAST-MODIFIED:20260309T232017Z
URL:https://www.tceq.texas.gov/agency/decisions/hearings/events/commission
 -work-session-2/2026-07-30
END:VEVENT
BEGIN:VTIMEZONE
TZID:America/Chicago
X-LIC-LOCATION:America/Chicago
BEGIN:DAYLIGHT
DTSTART:20260308T030000
TZNAME:CDT
TZOFFSETFROM:-0600
TZOFFSETTO:-0500
END:DAYLIGHT
END:VTIMEZONE
END:VCALENDAR
