BEGIN:VCALENDAR
VERSION:2.0
PRODID:-//Plone.org//NONSGML plone.app.event//EN
X-WR-TIMEZONE:America/Chicago
BEGIN:VEVENT
SUMMARY:Online Contested Case Hearing on Tycon Ready Mix\, LLC's Proposed 
 Air Quality Standard Permit\, Registration No. 159582
DTSTART;TZID=America/Chicago;VALUE=DATE-TIME:20210517T100000
DTSTAMP;VALUE=DATE-TIME:20210501T105308Z
UID:57bbecc46af441b780d9393fce442117@tceq4avrplonep1.tceq.texas.gov:6081
CONTACT:Public Education Program\, 800-687-4040\, pep@tceq.texas.gov\, htt
 ps://www.tceq.texas.gov/assets/public/comm_exec/pm-ph/notices/2021/2021-05
 -17-tycon-ready-mix-llc-159582-cch.pdf
CREATED;VALUE=DATE-TIME:20210326T201203Z
DESCRIPTION:The State Office of Administrative Hearings (SOAH) will conduc
 t an online\, formal contested case hearing on Tycon Ready Mix\, LLC's Pro
 posed Air Quality Standard Permit\, Registration No. 159582\, which would 
 authorize construction of a permanent concrete batch plant. VISIT THE SOAH
  WEBSITE FOR REGISTRATION AT www.soah.texas.gov\, OR CALL SOAH AT 512-475-
 4993.
LAST-MODIFIED;VALUE=DATE-TIME:20210329T152556Z
LOCATION:Online Zoom videoconference. For details\, see Notice of Hearing 
 under “More Information” link below.
URL:https://www.tceq.texas.gov/agency/decisions/hearings/events/online-con
 tested-case-hearing-on-tycon-ready-mix-llcs-proposed-air-quality-standard-
 permit-registration-no-159582
END:VEVENT
BEGIN:VTIMEZONE
TZID:America/Chicago
X-LIC-LOCATION:America/Chicago
BEGIN:DAYLIGHT
DTSTART;VALUE=DATE-TIME:20210314T030000
TZNAME:CDT
TZOFFSETFROM:-0600
TZOFFSETTO:-0500
END:DAYLIGHT
END:VTIMEZONE
END:VCALENDAR
