BEGIN:VCALENDAR
VERSION:2.0
PRODID:-//Plone.org//NONSGML plone.app.event//EN
X-WR-TIMEZONE:America/Chicago
BEGIN:VEVENT
SUMMARY:Online Public Hearing on  Buendia Concrete\, LLC's Proposed Air Qu
 ality Standard Permit for a Concrete Batch Plant with Enhanced Controls\, 
 Registration No. 164453
DTSTART;TZID=America/Chicago;VALUE=DATE-TIME:20210607T180000
DTSTAMP;VALUE=DATE-TIME:20210724T180230Z
UID:fba6e2220c9e4bbc884f9866e1d610f4@tceq4avrplonep1.tceq.texas.gov:6081
CONTACT:Public Education Program\, 800-687-4040\, pep@tceq.texas.gov\, htt
 ps://www.tceq.texas.gov/assets/public/comm_exec/pm-ph/notices/2021/2021-06
 -07-buendia-concrete-llc-164453-ph.pdf
CREATED;VALUE=DATE-TIME:20210428T194035Z
DESCRIPTION:TCEQ's Office of the Chief Clerk will facilitate an online pub
 lic hearing on Buendia Concrete\, LLC's proposed Air Quality Standard Perm
 it for a Concrete Batch Plant with Enhanced Controls\, Registration No. 16
 4453\, to authorize the operation of a permanent concrete batch plant at 1
 301 Superior Road\, Magnolia\, Montgomery County\, Texas 77354.
LAST-MODIFIED;VALUE=DATE-TIME:20210506T204351Z
LOCATION:Online webcast via gotomeeting.com/webinar/join-webinar. See deta
 ils at right or read the notice in the “More information” link below.
URL:https://www.tceq.texas.gov/agency/decisions/hearings/events/online-pub
 lic-hearing-on-buendia-concrete-llcs-proposed-air-quality-standard-permit-
 for-a-concrete-batch-plant-with-enhanced-controls-registration-no-164453
END:VEVENT
BEGIN:VTIMEZONE
TZID:America/Chicago
X-LIC-LOCATION:America/Chicago
BEGIN:DAYLIGHT
DTSTART;VALUE=DATE-TIME:20210314T030000
TZNAME:CDT
TZOFFSETFROM:-0600
TZOFFSETTO:-0500
END:DAYLIGHT
END:VTIMEZONE
END:VCALENDAR
