BEGIN:VCALENDAR
VERSION:2.0
PRODID:-//Plone.org//NONSGML plone.app.event//EN
X-WR-TIMEZONE:America/Chicago
BEGIN:VEVENT
SUMMARY:Online Public Meeting on Metroplex Gunite\, L.P.'s Proposed Air Qu
 ality Permit\, Registration No. 164838
DTSTART;TZID=America/Chicago;VALUE=DATE-TIME:20210927T190000
DTSTAMP;VALUE=DATE-TIME:20211009T050142Z
UID:6b00032a44aa4c598f9fa9025a70f016@tceq4avrplonep1.tceq.texas.gov:6081
CONTACT:Public Education Program at pep@tceq.texas.gov\, 800-687-4040\, ht
 tps://www.tceq.texas.gov/assets/public/comm_exec/pm-ph/notices/2021/2021-0
 9-27-metroplex-gunite-lp-164838-pm.pdf
CREATED;VALUE=DATE-TIME:20210907T235436Z
DESCRIPTION:TCEQ's Office of the Chief Clerk will facilitate an online pub
 lic meeting on Metroplex Gunite\, L.P.'s proposed Air Quality Permit\, Reg
 istration No. 164838\, which would authorize construction of a permanent c
 oncrete batch plant at 873 Wall Street Road\, Gunter\, Grayson County\, Te
 xas 75058.
LAST-MODIFIED;VALUE=DATE-TIME:20210910T192613Z
LOCATION:Online via www.gotomeeting.com/webinar/join-webinar. For details\
 , see the “More information” link below.
URL:https://www.tceq.texas.gov/agency/decisions/hearings/events/online-pub
 lic-meeting-on-metroplex-gunite-l-p-s-proposed-air-quality-permit-registra
 tion-no-164838
END:VEVENT
BEGIN:VTIMEZONE
TZID:America/Chicago
X-LIC-LOCATION:America/Chicago
BEGIN:DAYLIGHT
DTSTART;VALUE=DATE-TIME:20210314T030000
TZNAME:CDT
TZOFFSETFROM:-0600
TZOFFSETTO:-0500
END:DAYLIGHT
END:VTIMEZONE
END:VCALENDAR
